BEGIN:VCALENDAR
VERSION:2.0
PRODID:-//ChamberMaster//Event Calendar 2.0//EN
METHOD:PUBLISH
X-PUBLISHED-TTL:P3D
REFRESH-INTERVAL:P3D
CALSCALE:GREGORIAN
BEGIN:VEVENT
DTSTART:20220603T050000Z
DTEND:20220603T060000Z
X-MICROSOFT-CDO-ALLDAYEVENT:FALSE
SUMMARY:Work Smarter\, not Harder. Increase Revenue Through Lead Engagement
DESCRIPTION:Do you want to grow your business? Don't spend any more money on marketing until you have established an active lead engagement and nurturing system. Doing so will help you maximize the marketing and advertising dollars you spend by converting more leads\, increasing the Lifetime Value of your customers\, and generating a steady flow of referrals.
X-ALT-DESC;FMTTYPE=text/html:<span style="font-family:tahoma\;"><span style="color: rgb(43\, 55\, 77)\; font-size: 16px\; background-color: rgb(255\, 255\, 255)\;">Do you want to grow your business? Don&rsquo\;t spend any more money on marketing until you have established an active lead engagement and nurturing system. Doing so will help you maximize the marketing and advertising dollars you spend by converting more leads\, increasing the Lifetime Value of your customers\, and generating a steady flow of referrals.</span></span>
LOCATION:Zoom
UID:e.2030.5583
SEQUENCE:3
DTSTAMP:20260420T172125Z
URL:http://business.fvchamber.com/events/details/work-smarter-not-harder-increase-revenue-through-lead-engagement-5583
END:VEVENT

END:VCALENDAR
