BEGIN:VCALENDAR
VERSION:2.0
PRODID:-//ChamberMaster//Event Calendar 2.0//EN
METHOD:PUBLISH
X-PUBLISHED-TTL:P3D
REFRESH-INTERVAL:P3D
CALSCALE:GREGORIAN
BEGIN:VEVENT
DTSTART:20190928T160000Z
DTEND:20190928T190000Z
X-MICROSOFT-CDO-ALLDAYEVENT:FALSE
SUMMARY:Women's Self Defense Workshop
DESCRIPTION:This free\, three-hour hands-on class women's self-defense with local experts is hosted in partnership with the local community organizations and the City of Santa Ana. The workshop is open to all women. Learn how to protect yourself while discussing legislation on women's issues and safety!
X-ALT-DESC;FMTTYPE=text/html:<strong><span style="color:#000000\;"><span style="font-family:verdana\;"><span style="font-size:16px\;">This free\, three-hour hands-on class women&#39\;s self-defense with local experts is hosted in partnership with the local community organizations and the City of Santa Ana. The workshop is open to all women. Learn how to protect yourself while discussing legislation on women&#39\;s issues and safety!</span></span></span></strong>
LOCATION:Roosevelt-Walker Community Center 816 E. Chestnut Ave. Santa Ana\, CA 92701
UID:e.2030.5146
SEQUENCE:3
DTSTAMP:20260423T011107Z
URL:http://business.fvchamber.com/events/details/women-s-self-defense-workshop-5146
END:VEVENT

END:VCALENDAR
