BEGIN:VCALENDAR
VERSION:2.0
PRODID:-//ChamberMaster//Event Calendar 2.0//EN
METHOD:PUBLISH
X-PUBLISHED-TTL:P3D
REFRESH-INTERVAL:P3D
CALSCALE:GREGORIAN
BEGIN:VEVENT
DTSTART:20220503T170000Z
DTEND:20220503T180000Z
X-MICROSOFT-CDO-ALLDAYEVENT:FALSE
SUMMARY:Where You Start is not Where You are Going
DESCRIPTION:In this talk Laurel helps men and women professionally and personally to realize that their past does not determine the success of their future. Her method is to give them the ability by which to let go of the belief that what they have accomplished and what they have been through\, does not need to hinder what they can accomplish moving forward. Laurel shares her number one secret to make the transition from living in the past to deciding on a future outcome from any given situation. Your Attendees will learn how to:   Identify the stories they tell themselves that are keeping them stuck.   Decide their outcome and follow a clear path.   Create a different narrative for their future.   Use a step-by-step strategy to achieve their goal
X-ALT-DESC;FMTTYPE=text/html:<span style="font-family:tahoma\;"><span style="color: rgb(43\, 55\, 77)\; font-size: 16px\; background-color: rgb(255\, 255\, 255)\;">In this talk Laurel helps men and women professionally and personally to realize that their past does not determine the success of their future. Her method is to give them the ability by which to let go of the belief that what they have accomplished and what they have been through\, does not need to hinder what they can accomplish moving forward. Laurel shares her number one secret to make the transition from living in the past to deciding on a future outcome from any given situation. Your Attendees will learn how to: &#61656\; Identify the stories they tell themselves that are keeping them stuck. &#61656\; Decide their outcome and follow a clear path. &#61656\; Create a different narrative for their future. &#61656\; Use a step-by-step strategy to achieve their goal</span></span>
LOCATION:Zoom
UID:e.2030.5579
SEQUENCE:3
DTSTAMP:20260420T185423Z
URL:http://business.fvchamber.com/events/details/where-you-start-is-not-where-you-are-going-5579
END:VEVENT

END:VCALENDAR
