BEGIN:VCALENDAR
VERSION:2.0
PRODID:-//ChamberMaster//Event Calendar 2.0//EN
METHOD:PUBLISH
X-PUBLISHED-TTL:P3D
REFRESH-INTERVAL:P3D
CALSCALE:GREGORIAN
BEGIN:VEVENT
DTSTART:20211207T180000Z
DTEND:20211207T193000Z
X-MICROSOFT-CDO-ALLDAYEVENT:FALSE
SUMMARY:What Employers Need in Today's Business World
DESCRIPTION:Join the California Employers Association to learn What Employers Need in Today's Business World\n\nLearning objectives:\n\n	Recruiting tips for post COVID world\n	Bringing employees back to work\n	Remote work policies and support\n	What employers need from employees today
X-ALT-DESC;FMTTYPE=text/html:Join the California Employers Association to learn What Employers Need in Today&#39\;s Business World<br />\nLearning objectives:\n<ul>\n	<li>Recruiting tips for post COVID world</li>\n	<li>Bringing employees back to work</li>\n	<li>Remote work policies and support</li>\n	<li>What employers need from employees today</li>\n</ul>\n
LOCATION:Zoom
UID:e.2030.5407
SEQUENCE:3
DTSTAMP:20260421T033354Z
URL:http://business.fvchamber.com/events/details/what-employers-need-in-today-s-business-world-5407
END:VEVENT

END:VCALENDAR
