BEGIN:VCALENDAR
VERSION:2.0
PRODID:-//ChamberMaster//Event Calendar 2.0//EN
METHOD:PUBLISH
X-PUBLISHED-TTL:P3D
REFRESH-INTERVAL:P3D
CALSCALE:GREGORIAN
BEGIN:VEVENT
DTSTART:20200426T150000Z
DTEND:20200426T180000Z
X-MICROSOFT-CDO-ALLDAYEVENT:FALSE
SUMMARY:Wells of Life: Run 4 Water 5K Run
DESCRIPTION:The Run4Water 2020 fundraising campaign is on! Culminating with the 5K Run/1K Walk at Mile Square Park in Fountain Valley\, CA on Sunday\, April 26\, 2020. Join us in transforming lives through clean water and bringing the gift of life and hope! Teams across the country are gearing up\, so join the fun!
X-ALT-DESC;FMTTYPE=text/html:<strong><span style="color:#0000CD\;"><span style="font-family:verdana\;"><span style="font-size:16px\;">The Run4Water 2020 fundraising campaign is on! Culminating with the 5K Run/1K Walk at Mile Square Park in Fountain Valley\, CA on Sunday\, April 26\, 2020. Join us in transforming lives through clean water and bringing the gift of life and hope! Teams across the country are gearing up\, so join the fun!</span></span></span></strong>
LOCATION:Mile Square Park\, Fountain Valley\, CA
UID:e.2030.5289
SEQUENCE:3
DTSTAMP:20260422T161028Z
URL:http://business.fvchamber.com/events/details/wells-of-life-run-4-water-5k-run-5289
END:VEVENT

END:VCALENDAR
