BEGIN:VCALENDAR
VERSION:2.0
PRODID:-//ChamberMaster//Event Calendar 2.0//EN
METHOD:PUBLISH
X-PUBLISHED-TTL:P3D
REFRESH-INTERVAL:P3D
CALSCALE:GREGORIAN
BEGIN:VEVENT
DTSTART:20210107T010000Z
DTEND:20210107T020000Z
X-MICROSOFT-CDO-ALLDAYEVENT:FALSE
SUMMARY:Welch Insurance Medicare Educational Event Q&A On-Line
DESCRIPTION:To attend our Medicare Educational Event Q&A on a Wednesday at 6 PM click on the Blue highlighted date. There is no charge for the meeting or our services. We will be covering Medicare Part A\, B\, C\, D and how they work including Medicare Supplement Plans. We will not be talking about any company or plan. This is educational information. Bring your questions to be answered.\n\n \n\nPlease click on the link below to register:\n\n\n\nhttps://calendly.com/roy-welch/medicare-educational-event-on-line?month=2021-01&date=2021-01-06
X-ALT-DESC;FMTTYPE=text/html:<strong><span style="font-family:verdana\;"><span style="color:#800000\;"><span style="font-size: 16px\; background-color: rgb(255\, 255\, 255)\;">To attend our Medicare Educational Event Q&amp\;A on a Wednesday at 6 PM click on the Blue highlighted date. There is no charge for the meeting or our services. We will be covering Medicare Part A\, B\, C\, D and how they work including Medicare Supplement Plans. We will not be talking about any company or plan. This is educational information. Bring your questions to be answered.</span></span></span></strong><br />\n<span style="color: rgb(77\, 80\, 85)\; font-family: &quot\;Proxima Nova&quot\;\, sans-serif\; font-size: 16px\; background-color: rgb(255\, 255\, 255)\;">&nbsp\;<br />\nPlease click on the link below to register:</span><br />\n<br />\n<a href="https://calendly.com/roy-welch/medicare-educational-event-on-line?month=2021-01"><em>https://calendly.com/roy-welch/medicare-educational-event-on-line?month=2021-01&amp\;date=2021-01-06&nbsp\;</em></a>
LOCATION:Zoom Meeting (Online)
UID:e.2030.5329
SEQUENCE:3
DTSTAMP:20260421T230515Z
URL:http://business.fvchamber.com/events/details/welch-insurance-medicare-educational-event-q-a-on-line-5329
END:VEVENT

END:VCALENDAR
