BEGIN:VCALENDAR
VERSION:2.0
PRODID:-//ChamberMaster//Event Calendar 2.0//EN
METHOD:PUBLISH
X-PUBLISHED-TTL:P3D
REFRESH-INTERVAL:P3D
CALSCALE:GREGORIAN
BEGIN:VEVENT
DTSTART:20211006T160000Z
DTEND:20211006T173000Z
X-MICROSOFT-CDO-ALLDAYEVENT:FALSE
SUMMARY:WBC Resource Funding Lab
DESCRIPTION:Get support with all things funding. Join experienced business counselors as they answer all your funding questions\, give advice on the application process and even have the opportunity for 1-on-1 assistance during the lab. With so many different options available\, this is your one-stop-shop funding resource.\nInstructions: In response to COVID-19 public health concerns\, all workshops will be held on ZOOM\, an online video platform\, until further notice. To maintain quality and security during virtual events\, you will be sent a link to join the meeting on the day of the event\, up to 30 minutes prior to the scheduled start time. If you do not receive the link check your spam inbox then call (909)-890-1242 for assistance.
X-ALT-DESC;FMTTYPE=text/html:<div class="conf-desc" style="padding-top: 0px\; padding-bottom: 10px\; font-family: Lato\, Arial\, Helvetica\, sans-serif\; font-size: 16px\;">Get support with all things funding. Join experienced business counselors as they answer all your funding questions\, give advice on the application process and even have the opportunity for 1-on-1 assistance during the lab. With so many different options available\, this is your one-stop-shop funding resource.</div>\n<label style="font-weight: bold\; line-height: 20px\; font-family: Lato\, Arial\, Helvetica\, sans-serif\; font-size: 16px\;">Instructions:</label><span style="font-family: Lato\, Arial\, Helvetica\, sans-serif\; font-size: 16px\;">&nbsp\;In response to COVID-19 public health concerns\, all workshops will be held on ZOOM\, an online video platform\, until further notice. To maintain quality and security during virtual events\, you will be sent a link to join the meeting on the day of the event\, up to 30 minutes prior to the scheduled start time. If you do not receive the link check your spam inbox then call (909)-890-1242 for assistance.</span>
LOCATION:Zoom
UID:e.2030.5391
SEQUENCE:3
DTSTAMP:20260421T065215Z
URL:http://business.fvchamber.com/events/details/wbc-resource-funding-lab-5391
END:VEVENT

END:VCALENDAR
