BEGIN:VCALENDAR
VERSION:2.0
PRODID:-//ChamberMaster//Event Calendar 2.0//EN
METHOD:PUBLISH
X-PUBLISHED-TTL:P3D
REFRESH-INTERVAL:P3D
CALSCALE:GREGORIAN
BEGIN:VEVENT
DTSTART;VALUE=DATE:20180219
DTEND;VALUE=DATE:20180220
TRANSP:TRANSPARENT
X-MICROSOFT-CDO-ALLDAYEVENT:TRUE
SUMMARY:Washington's Birthday Holiday
DESCRIPTION:Chamber Office is closed for Washington's Birthday
X-ALT-DESC;FMTTYPE=text/html:Chamber Office is closed for Washington&#39\;s Birthday
LOCATION:
UID:e.2030.4380
SEQUENCE:3
DTSTAMP:20260424T051440Z
URL:http://business.fvchamber.com/events/details/washington-s-birthday-holiday-4380
END:VEVENT

END:VCALENDAR
