BEGIN:VCALENDAR
VERSION:2.0
PRODID:-//ChamberMaster//Event Calendar 2.0//EN
METHOD:PUBLISH
X-PUBLISHED-TTL:P3D
REFRESH-INTERVAL:P3D
CALSCALE:GREGORIAN
BEGIN:VEVENT
DTSTART:20230519T000000Z
DTEND:20230519T020000Z
X-MICROSOFT-CDO-ALLDAYEVENT:FALSE
SUMMARY:Vita Cane Juicery Ribbon Cutting
DESCRIPTION:Join us for the Ribbon Cutting of Vi Ta Cane Juicery
X-ALT-DESC;FMTTYPE=text/html:<span style="font-size:20px\;"><span style="font-family:tahoma\;"><span style="color:#000080\;"><strong>Join us for the Ribbon Cutting of Vi Ta Cane Juicery</strong></span></span></span>
LOCATION:18902 Brookhurst Fountain Valley\, CA 92708
UID:e.2030.6174
SEQUENCE:3
DTSTAMP:20260419T224507Z
URL:http://business.fvchamber.com/events/details/vita-cane-juicery-ribbon-cutting-6174
END:VEVENT

END:VCALENDAR
