BEGIN:VCALENDAR
VERSION:2.0
PRODID:-//ChamberMaster//Event Calendar 2.0//EN
METHOD:PUBLISH
X-PUBLISHED-TTL:P3D
REFRESH-INTERVAL:P3D
CALSCALE:GREGORIAN
BEGIN:VEVENT
DTSTART:20200514T200000Z
DTEND:20200514T210000Z
X-MICROSOFT-CDO-ALLDAYEVENT:FALSE
SUMMARY:Virtual Town Hall with CA State Senator Tom Umberg
DESCRIPTION:California State Senator Tom Umberg will be hosting a virtual town hall meeting\, to update his constituencies on all the latest updates with the Covid-19 Pandemic.
X-ALT-DESC;FMTTYPE=text/html:<strong><span style="color:#000080\;"><span style="font-family:verdana\;"><span style="font-size:18px\;">California State Senator Tom Umberg will be hosting a virtual town hall meeting\, to update his constituencies on all the latest updates with the Covid-19 Pandemic.&nbsp\;</span></span></span></strong>
LOCATION:The conference will take place from the safety and convenience of your own home.
UID:e.2030.5312
SEQUENCE:3
DTSTAMP:20260422T124845Z
URL:http://business.fvchamber.com/events/details/virtual-town-hall-with-ca-state-senator-tom-umberg-5312
END:VEVENT

END:VCALENDAR
