BEGIN:VCALENDAR
VERSION:2.0
PRODID:-//ChamberMaster//Event Calendar 2.0//EN
METHOD:PUBLISH
X-PUBLISHED-TTL:P3D
REFRESH-INTERVAL:P3D
CALSCALE:GREGORIAN
BEGIN:VEVENT
DTSTART:20160520T003000Z
DTEND:20160520T023000Z
X-MICROSOFT-CDO-ALLDAYEVENT:FALSE
SUMMARY:Valley West Financial Insurance Services Ribbon Cutting
DESCRIPTION:Valley West Financial Insurance Services\n\nGrand Opening / Ribbon Cutting
X-ALT-DESC;FMTTYPE=text/html:<span style="font-size:18px\;"><strong>Valley West Financial Insurance Services<br />\n<em>Grand Opening / Ribbon Cutting</em></strong></span>
LOCATION:17054 Magnolia Avenue Fountain Valley\, CA 92708
UID:e.2030.2798
SEQUENCE:3
DTSTAMP:20260425T142225Z
URL:http://business.fvchamber.com/events/details/valley-west-financial-insurance-services-ribbon-cutting-05-19-2016-2798
END:VEVENT

END:VCALENDAR
