BEGIN:VCALENDAR
VERSION:2.0
PRODID:-//ChamberMaster//Event Calendar 2.0//EN
METHOD:PUBLISH
X-PUBLISHED-TTL:P3D
REFRESH-INTERVAL:P3D
CALSCALE:GREGORIAN
BEGIN:VEVENT
DTSTART;VALUE=DATE:20160214
DTEND;VALUE=DATE:20160215
TRANSP:TRANSPARENT
X-MICROSOFT-CDO-ALLDAYEVENT:TRUE
SUMMARY:Valentine's Day
DESCRIPTION:Valentine's Day
X-ALT-DESC;FMTTYPE=text/html:<span style="color:#000080\;"><span style="font-size: 16px\;"><strong>Valentine&#39\;s Day</strong></span></span>
LOCATION:
UID:e.2030.2351
SEQUENCE:3
DTSTAMP:20260425T185801Z
URL:http://business.fvchamber.com/events/details/valentine-s-day-02-14-2016-2351
END:VEVENT

END:VCALENDAR
