BEGIN:VCALENDAR
VERSION:2.0
PRODID:-//ChamberMaster//Event Calendar 2.0//EN
METHOD:PUBLISH
X-PUBLISHED-TTL:P3D
REFRESH-INTERVAL:P3D
CALSCALE:GREGORIAN
BEGIN:VEVENT
DTSTART:20231120T183000Z
DTEND:20231121T073000Z
X-MICROSOFT-CDO-ALLDAYEVENT:FALSE
SUMMARY:Urban Plates Ribbon Cutting
DESCRIPTION:Come join us to help celebrate Urban Plates Opening a new location here in Fountain Valley!
X-ALT-DESC;FMTTYPE=text/html:<span style="color:#006400\;"><span style="font-size:20px\;"><strong>Come join us to help celebrate Urban Plates Opening a new location here in Fountain Valley!</strong></span></span>
LOCATION:18050 Brookhurst St. Fountain Valley\, CA 92708
UID:e.2030.6198
SEQUENCE:3
DTSTAMP:20260419T123605Z
URL:http://business.fvchamber.com/events/details/urban-plates-ribbon-cutting-6198
END:VEVENT

END:VCALENDAR
