BEGIN:VCALENDAR
VERSION:2.0
PRODID:-//ChamberMaster//Event Calendar 2.0//EN
METHOD:PUBLISH
X-PUBLISHED-TTL:P3D
REFRESH-INTERVAL:P3D
CALSCALE:GREGORIAN
BEGIN:VEVENT
DTSTART:20170317T003000Z
DTEND:20170317T020000Z
X-MICROSOFT-CDO-ALLDAYEVENT:FALSE
SUMMARY:Tropical Smoothie Cafe Ribbon Cutting
DESCRIPTION:Tropical Smoothie Cafe\n\nRibbon Cutting
X-ALT-DESC;FMTTYPE=text/html:<span style="font-size:18px\;"><strong>Tropical Smoothie Cafe</strong></span><br />\n<em><span style="font-size:16px\;"><strong>Ribbon Cutting</strong></span></em>
LOCATION:9480 Talbert Avenue (at Bushard) Fountain Valley
UID:e.2030.3878
SEQUENCE:3
DTSTAMP:20260424T230802Z
URL:http://business.fvchamber.com/events/details/tropical-smoothie-cafe-ribbon-cutting-3878
END:VEVENT

END:VCALENDAR
