BEGIN:VCALENDAR
VERSION:2.0
PRODID:-//ChamberMaster//Event Calendar 2.0//EN
METHOD:PUBLISH
X-PUBLISHED-TTL:P3D
REFRESH-INTERVAL:P3D
CALSCALE:GREGORIAN
BEGIN:VEVENT
DTSTART:20170303T150000Z
DTEND:20170304T060000Z
X-MICROSOFT-CDO-ALLDAYEVENT:FALSE
SUMMARY:Tropical Smoothe Cafe Grand Opening
DESCRIPTION:Tropical Smoothe Cafe Grand Opening\n\n\n\nRibbon Cutting on Thursday\, March 16th at 5:30pm
X-ALT-DESC;FMTTYPE=text/html:<span style="font-size:16px\;"><strong>Tropical Smoothe Cafe Grand Opening<br />\n<br />\nRibbon Cutting on Thursday\, March 16th at 5:30pm</strong></span>
LOCATION:Talbert & Bushard Fountain Valley
UID:e.2030.3877
SEQUENCE:3
DTSTAMP:20260425T005227Z
URL:http://business.fvchamber.com/events/details/tropical-smoothe-cafe-grand-opening-3877
END:VEVENT

END:VCALENDAR
