BEGIN:VCALENDAR
VERSION:2.0
PRODID:-//ChamberMaster//Event Calendar 2.0//EN
METHOD:PUBLISH
X-PUBLISHED-TTL:P3D
REFRESH-INTERVAL:P3D
CALSCALE:GREGORIAN
BEGIN:VEVENT
DTSTART:20200328T163000Z
DTEND:20200328T200000Z
X-MICROSOFT-CDO-ALLDAYEVENT:FALSE
SUMMARY:Treasures by the Sea 2020 (Assistance League of HB)
DESCRIPTION:Assistance League of Huntington Beach cordially invites you to attend their annual fundraiser. \n\n\n\nSilent Auction/Luncheon/Live Auction/Opportunity Drawing\n\n\n\nProceeds to benefit their philanthropic programs
X-ALT-DESC;FMTTYPE=text/html:<strong><span style="color:#0000CD\;"><span style="font-family:verdana\;"><span style="font-size:16px\;">Assistance League of Huntington Beach cordially invites you to attend their annual fundraiser.&nbsp\;</span></span></span></strong><br />\n<br />\n<strong><span style="color:#0000CD\;"><span style="font-family:verdana\;"><span style="font-size:16px\;">Silent Auction/Luncheon/Live Auction/Opportunity Drawing<br />\n<br />\nProceeds to benefit their philanthropic programs</span></span></span></strong>
LOCATION:The Waterfront Beach Resort\, a Hilton Hotel 21100 Pacific Coast Highway Huntington Beach\, CA
UID:e.2030.5288
SEQUENCE:3
DTSTAMP:20260422T161945Z
URL:http://business.fvchamber.com/events/details/treasures-by-the-sea-2020-assistance-league-of-hb-5288
END:VEVENT

END:VCALENDAR
