BEGIN:VCALENDAR
VERSION:2.0
PRODID:-//ChamberMaster//Event Calendar 2.0//EN
METHOD:PUBLISH
X-PUBLISHED-TTL:P3D
REFRESH-INTERVAL:P3D
CALSCALE:GREGORIAN
BEGIN:VEVENT
DTSTART:20220120T180000Z
DTEND:20220120T200000Z
X-MICROSOFT-CDO-ALLDAYEVENT:FALSE
SUMMARY:The Hidden Fees of Credit Card Processing
DESCRIPTION:Did you know your credit card processing program could be costing you more than it should?\n\n\n\n1. Why business-to-business transactions are different than business-to-consumer transactions\;\n\n2. How hidden fees increase your low "base rate" to a very high "effective rate"\;\n\n3. The tactics processors use to bury fees\;\n\n4. How to read between the lines of complicated monthly statements\;\n\n5.How you can avoid the most common fees and increase your bottom-line profitability\;
X-ALT-DESC;FMTTYPE=text/html:<span style="color: rgb(43\, 55\, 77)\; font-family: ModernSans\, Arial\, Helvetica\, sans-serif\; font-size: 16px\; background-color: rgb(255\, 255\, 255)\;">Did you know your credit card processing program could be costing you more than it should?</span><br style="box-sizing: border-box\; color: rgb(43\, 55\, 77)\; font-family: ModernSans\, Arial\, Helvetica\, sans-serif\; font-size: 16px\; background-color: rgb(255\, 255\, 255)\;" />\n<br style="box-sizing: border-box\; color: rgb(43\, 55\, 77)\; font-family: ModernSans\, Arial\, Helvetica\, sans-serif\; font-size: 16px\; background-color: rgb(255\, 255\, 255)\;" />\n<span style="color: rgb(43\, 55\, 77)\; font-family: ModernSans\, Arial\, Helvetica\, sans-serif\; font-size: 16px\; background-color: rgb(255\, 255\, 255)\;">1. Why business-to-business transactions are different than business-to-consumer transactions\;</span><br style="box-sizing: border-box\; color: rgb(43\, 55\, 77)\; font-family: ModernSans\, Arial\, Helvetica\, sans-serif\; font-size: 16px\; background-color: rgb(255\, 255\, 255)\;" />\n<span style="color: rgb(43\, 55\, 77)\; font-family: ModernSans\, Arial\, Helvetica\, sans-serif\; font-size: 16px\; background-color: rgb(255\, 255\, 255)\;">2. How hidden fees increase your low &ldquo\;base rate&rdquo\; to a very high &ldquo\;effective rate&rdquo\;\;</span><br style="box-sizing: border-box\; color: rgb(43\, 55\, 77)\; font-family: ModernSans\, Arial\, Helvetica\, sans-serif\; font-size: 16px\; background-color: rgb(255\, 255\, 255)\;" />\n<span style="color: rgb(43\, 55\, 77)\; font-family: ModernSans\, Arial\, Helvetica\, sans-serif\; font-size: 16px\; background-color: rgb(255\, 255\, 255)\;">3. The tactics processors use to bury fees\;</span><br style="box-sizing: border-box\; color: rgb(43\, 55\, 77)\; font-family: ModernSans\, Arial\, Helvetica\, sans-serif\; font-size: 16px\; background-color: rgb(255\, 255\, 255)\;" />\n<span style="color: rgb(43\, 55\, 77)\; font-family: ModernSans\, Arial\, Helvetica\, sans-serif\; font-size: 16px\; background-color: rgb(255\, 255\, 255)\;">4. How to read between the lines of complicated monthly statements\;</span><br style="box-sizing: border-box\; color: rgb(43\, 55\, 77)\; font-family: ModernSans\, Arial\, Helvetica\, sans-serif\; font-size: 16px\; background-color: rgb(255\, 255\, 255)\;" />\n<span style="color: rgb(43\, 55\, 77)\; font-family: ModernSans\, Arial\, Helvetica\, sans-serif\; font-size: 16px\; background-color: rgb(255\, 255\, 255)\;">5.How you can avoid the most common fees and increase your bottom-line profitability\;</span>
LOCATION:Online Webinar
UID:e.2030.5416
SEQUENCE:3
DTSTAMP:20260421T014922Z
URL:http://business.fvchamber.com/events/details/the-hidden-fees-of-credit-card-processing-5416
END:VEVENT

END:VCALENDAR
