BEGIN:VCALENDAR
VERSION:2.0
PRODID:-//ChamberMaster//Event Calendar 2.0//EN
METHOD:PUBLISH
X-PUBLISHED-TTL:P3D
REFRESH-INTERVAL:P3D
CALSCALE:GREGORIAN
BEGIN:VEVENT
DTSTART:20211204T010000Z
DTEND:20211206T050000Z
X-MICROSOFT-CDO-ALLDAYEVENT:FALSE
SUMMARY:The Creche a Christmas Festival
DESCRIPTION:Come Celebrate the birth of Jesus Christ at Orange Counties annual Christmas festival The Creche\n\nExhibits:\n\n	Hundreds of Nativity Scenes\n	Live Nativity every 30 Minutes\n	Christ-Centered Art Gallery\n	Local Music Performances\n	Activity  Room\n	Light the World
X-ALT-DESC;FMTTYPE=text/html:Come Celebrate the birth of Jesus Christ at Orange Counties annual Christmas festival The Creche<br />\nExhibits:\n<ul>\n	<li>Hundreds of Nativity Scenes</li>\n	<li>Live Nativity every 30 Minutes</li>\n	<li>Christ-Centered Art Gallery</li>\n	<li>Local Music Performances</li>\n	<li>Activity&nbsp\; Room</li>\n	<li>Light the World</li>\n</ul>\n
LOCATION:Church of Jesus Christ of Latter-day Saints 17500 Bushard\, Fountain Valley\, CA 92708
UID:e.2030.5408
SEQUENCE:3
DTSTAMP:20260421T033416Z
URL:http://business.fvchamber.com/events/details/the-creche-a-christmas-festival-5408
END:VEVENT

END:VCALENDAR
