BEGIN:VCALENDAR
VERSION:2.0
PRODID:-//ChamberMaster//Event Calendar 2.0//EN
METHOD:PUBLISH
X-PUBLISHED-TTL:P3D
REFRESH-INTERVAL:P3D
CALSCALE:GREGORIAN
BEGIN:VEVENT
DTSTART;VALUE=DATE:20211016
DTEND;VALUE=DATE:20211017
TRANSP:TRANSPARENT
X-MICROSOFT-CDO-ALLDAYEVENT:TRUE
SUMMARY:The Boys and Girls Club of Huntington Valley Annual Benefit Dinner and Auction
DESCRIPTION:Join the Boys and Girls Club of Huntington Valley on Saturday\, October 16\, 2021\, online or in person for our annual benefit fundraiser. There will be an extensive silent auction\, entertainment\, and live voice auction are all part of this amazing event that you don't want to miss!
X-ALT-DESC;FMTTYPE=text/html:<span style="font-size:22px\;"><span style="font-family:verdana\;"><strong>Join the Boys and Girls Club of Huntington Valley on Saturday\, October 16\, 2021\, online or in person for our annual benefit fundraiser. There will be an extensive silent auction\, entertainment\, and live voice auction are all part of this amazing event that you don&#39\;t want to miss!</strong></span></span>
LOCATION:Over Zoom or in-person
UID:e.2030.5368
SEQUENCE:3
DTSTAMP:20260421T065839Z
URL:http://business.fvchamber.com/events/details/the-boys-and-girls-club-of-huntington-valley-annual-benefit-dinner-and-auction-5368
END:VEVENT

END:VCALENDAR
