BEGIN:VCALENDAR
VERSION:2.0
PRODID:-//ChamberMaster//Event Calendar 2.0//EN
METHOD:PUBLISH
X-PUBLISHED-TTL:P3D
REFRESH-INTERVAL:P3D
CALSCALE:GREGORIAN
BEGIN:VEVENT
DTSTART:20190327T230000Z
DTEND:20190328T000000Z
X-MICROSOFT-CDO-ALLDAYEVENT:FALSE
SUMMARY:The Boardroom OC
DESCRIPTION:Join the Fountain Valley Chamber of Commerce for a special Ribbon Cutting event! As we celebrate this highly anticipated grand opening.\n\n\n\nEnjoy a great drink and some tacos as we celebrate this amazing buisness in our city!
X-ALT-DESC;FMTTYPE=text/html:<span style="color:#FF8C00\;"><span style="font-size:14px\;"><span style="font-family:tahoma\;"><strong><span style="font-size:20px\;">Join the Fountain Valley Chamber of Commerce for a special Ribbon Cutting event! As we celebrate this highly anticipated grand opening.</span></strong></span></span></span><br />\n<br />\n<font color="#a52a2a" face="verdana"><span style="font-size: 18px\;"><b>Enjoy a great drink and some tacos as we celebrate this amazing buisness in our city!</b></span></font>
LOCATION:8896 Warner Ave\, Fountain Valley\, CA 92708
UID:e.2030.5103
SEQUENCE:3
DTSTAMP:20260423T103510Z
URL:http://business.fvchamber.com/events/details/the-boardroom-oc-5103
END:VEVENT

END:VCALENDAR
