BEGIN:VCALENDAR
VERSION:2.0
PRODID:-//ChamberMaster//Event Calendar 2.0//EN
METHOD:PUBLISH
X-PUBLISHED-TTL:P3D
REFRESH-INTERVAL:P3D
CALSCALE:GREGORIAN
BEGIN:VEVENT
DTSTART:20190316T180000Z
DTEND:20190316T190000Z
X-MICROSOFT-CDO-ALLDAYEVENT:FALSE
SUMMARY:The Black Bean Ribbon Cutting Ceremony
DESCRIPTION:Join the Fountain Valley Chamber of Commerce for a special Ribbon Cutting event! As we celebrate this anticipated grand opening.\n\nEnjoy some amazing burgers and drinks as we celebrate this new business in opening up in our city!
X-ALT-DESC;FMTTYPE=text/html:<span style="color:#FF8C00\;"><span style="font-size:18px\;"><span style="font-family:arial\;">Join the Fountain Valley Chamber of Commerce for a special Ribbon Cutting event! As we celebrate this anticipated grand opening.</span></span></span><br />\n<span style="color: rgb(178\, 34\, 34)\; font-family: arial\; font-size: 18px\; background-color: rgb(255\, 255\, 255)\;">Enjoy some amazing burgers and drinks as we celebrate this new business&nbsp\;in opening up in our city!</span><br />\n&nbsp\;
LOCATION:9430 Warner Ave\, Fountain Valley\, CA 92708
UID:e.2030.5104
SEQUENCE:3
DTSTAMP:20260423T104333Z
URL:http://business.fvchamber.com/events/details/the-black-bean-ribbon-cutting-ceremony-5104
END:VEVENT

END:VCALENDAR
