BEGIN:VCALENDAR
VERSION:2.0
PRODID:-//ChamberMaster//Event Calendar 2.0//EN
METHOD:PUBLISH
X-PUBLISHED-TTL:P3D
REFRESH-INTERVAL:P3D
CALSCALE:GREGORIAN
BEGIN:VEVENT
DTSTART:20190810T180000Z
DTEND:20190810T200000Z
X-MICROSOFT-CDO-ALLDAYEVENT:FALSE
SUMMARY:The Annual Fountain Valley Chamber Challenge Softball Game
DESCRIPTION:Join the City of Fountain Valley and the Chamber for our annual Softball Game! Enjoy a hot dog\, a great game and support your local community. See you at the Ballpark!
X-ALT-DESC;FMTTYPE=text/html:<strong><span style="color:#008000\;"><span style="font-family:times new roman\;"><span style="font-family:verdana\;"><span style="font-size:16px\;">Join the City of Fountain Valley and the Chamber for our annual Softball Game! Enjoy a hot dog\, a great game and support your local community. See you at the Ballpark!</span></span></span></span></strong>
LOCATION:Fountain Valley Sports Park 16400 Brookhurst St. Fountain Valley\, CA 92708
UID:e.2030.5124
SEQUENCE:3
DTSTAMP:20260423T024116Z
URL:http://business.fvchamber.com/events/details/the-annual-fountain-valley-chamber-challenge-softball-game-5124
END:VEVENT

END:VCALENDAR
