BEGIN:VCALENDAR
VERSION:2.0
PRODID:-//ChamberMaster//Event Calendar 2.0//EN
METHOD:PUBLISH
X-PUBLISHED-TTL:P3D
REFRESH-INTERVAL:P3D
CALSCALE:GREGORIAN
BEGIN:VEVENT
DTSTART:20170912T170000Z
DTEND:20170912T230000Z
X-MICROSOFT-CDO-ALLDAYEVENT:FALSE
SUMMARY:The 7th Orange County Asian Business EXPO
DESCRIPTION:The 7th Orange County Asian Business EXPO
X-ALT-DESC;FMTTYPE=text/html:<span style="font-size:18px\;"><strong>The 7th Orange County Asian Business EXPO</strong></span>
LOCATION:Great Wolf Lodge 12681 Harbor Blvd. Garden Grove\, CA 92840
UID:e.2030.4223
SEQUENCE:3
DTSTAMP:20260424T143057Z
URL:http://business.fvchamber.com/events/details/the-7th-orange-county-asian-business-expo-4223
END:VEVENT

END:VCALENDAR
