BEGIN:VCALENDAR
VERSION:2.0
PRODID:-//ChamberMaster//Event Calendar 2.0//EN
METHOD:PUBLISH
X-PUBLISHED-TTL:P3D
REFRESH-INTERVAL:P3D
CALSCALE:GREGORIAN
BEGIN:VEVENT
DTSTART:20210930T003000Z
DTEND:20210930T023000Z
X-MICROSOFT-CDO-ALLDAYEVENT:FALSE
SUMMARY:The 2021 Business & Leadership Awards
DESCRIPTION:Please join us for a beautiful evening recognizing the top businesses and emerging leaders of Fountain Valley.
X-ALT-DESC;FMTTYPE=text/html:<em><span style="font-family:verdana\;"><strong><span style="font-size:24px\;">Please join us for a beautiful evening recognizing the top businesses and emerging leaders of Fountain Valley.</span></strong></span></em>
LOCATION:Founders Village - Jasmine Room 17967 Bushard St\, Fountain Valley\, CA 92708
UID:e.2030.5364
SEQUENCE:3
DTSTAMP:20260421T101824Z
URL:http://business.fvchamber.com/events/details/the-2021-business-leadership-awards-5364
END:VEVENT

END:VCALENDAR
