BEGIN:VCALENDAR
VERSION:2.0
PRODID:-//ChamberMaster//Event Calendar 2.0//EN
METHOD:PUBLISH
X-PUBLISHED-TTL:P3D
REFRESH-INTERVAL:P3D
CALSCALE:GREGORIAN
BEGIN:VEVENT
DTSTART;VALUE=DATE:20181122
DTEND;VALUE=DATE:20181124
TRANSP:TRANSPARENT
X-MICROSOFT-CDO-ALLDAYEVENT:TRUE
SUMMARY:Thanksgiving Holiday
DESCRIPTION:Happy Thanksgiving!\n\nClosed Thursday & Friday
X-ALT-DESC;FMTTYPE=text/html:<span style="font-size:14px\;"><strong>Happy Thanksgiving!</strong></span><br />\n<em><strong>Closed Thursday &amp\; Friday</strong></em>
LOCATION:
UID:e.2030.4377
SEQUENCE:3
DTSTAMP:20260423T161129Z
URL:http://business.fvchamber.com/events/details/thanksgiving-holiday-4377
END:VEVENT

END:VCALENDAR
