BEGIN:VCALENDAR
VERSION:2.0
PRODID:-//ChamberMaster//Event Calendar 2.0//EN
METHOD:PUBLISH
X-PUBLISHED-TTL:P3D
REFRESH-INTERVAL:P3D
CALSCALE:GREGORIAN
BEGIN:VEVENT
DTSTART:20231102T180000Z
DTEND:20231102T210000Z
X-MICROSOFT-CDO-ALLDAYEVENT:FALSE
SUMMARY:Thank You Fountain Valley
DESCRIPTION:Come join us for lunch to help thank City Council\, City Staff\, and elected Fountain Valley Representatives.
X-ALT-DESC;FMTTYPE=text/html:<span style="color:#800000\;"><span style="font-size:26px\;"><strong>Come join us for lunch to help thank City Council\, City Staff\, and elected Fountain Valley Representatives.</strong></span></span>
LOCATION:Mile Square Golf Course 10401 Warner Ave.\, Fountain Valley\, CA 92708
UID:e.2030.6196
SEQUENCE:3
DTSTAMP:20260419T125527Z
URL:http://business.fvchamber.com/events/details/thank-you-fountain-valley-6196
END:VEVENT

END:VCALENDAR
