BEGIN:VCALENDAR
VERSION:2.0
PRODID:-//ChamberMaster//Event Calendar 2.0//EN
METHOD:PUBLISH
X-PUBLISHED-TTL:P3D
REFRESH-INTERVAL:P3D
CALSCALE:GREGORIAN
BEGIN:VEVENT
DTSTART:20190407T010000Z
DTEND:20190407T050000Z
X-MICROSOFT-CDO-ALLDAYEVENT:FALSE
SUMMARY:Taste of Fountain Valley
DESCRIPTION:Taste of Fountain Valley\n\nEnjoy over 40 food and Beverage Vendors!
X-ALT-DESC;FMTTYPE=text/html:<strong><span style="font-size:16px\;">Taste of Fountain Valley<br />\nEnjoy over 40 food and Beverage Vendors!</span></strong>
LOCATION:Los Cab Sports Village 17272 Newhope St. Fountain Valley\, CA 92708
UID:e.2030.5089
SEQUENCE:3
DTSTAMP:20260423T084717Z
URL:http://business.fvchamber.com/events/details/taste-of-fountain-valley-5089
END:VEVENT

END:VCALENDAR
