BEGIN:VCALENDAR
VERSION:2.0
PRODID:-//ChamberMaster//Event Calendar 2.0//EN
METHOD:PUBLISH
X-PUBLISHED-TTL:P3D
REFRESH-INTERVAL:P3D
CALSCALE:GREGORIAN
BEGIN:VEVENT
DTSTART:20180422T010000Z
DTEND:20180422T050000Z
X-MICROSOFT-CDO-ALLDAYEVENT:FALSE
SUMMARY:Taste of Fountain Valley
DESCRIPTION:Taste of Fountain Valley
X-ALT-DESC;FMTTYPE=text/html:<span style="font-size:18px\;"><strong>Taste of Fountain Valley</strong></span>
LOCATION:Los Caballeros Sports Village 17272 Newhope Street Fountain Valley
UID:e.2030.4661
SEQUENCE:3
DTSTAMP:20260424T022647Z
URL:http://business.fvchamber.com/events/details/taste-of-fountain-valley-4661
END:VEVENT

END:VCALENDAR
