BEGIN:VCALENDAR
VERSION:2.0
PRODID:-//ChamberMaster//Event Calendar 2.0//EN
METHOD:PUBLISH
X-PUBLISHED-TTL:P3D
REFRESH-INTERVAL:P3D
CALSCALE:GREGORIAN
BEGIN:VEVENT
DTSTART:20170430T000000Z
DTEND:20170430T040000Z
X-MICROSOFT-CDO-ALLDAYEVENT:FALSE
SUMMARY:Taste of Fountain Valley
DESCRIPTION:Taste of Fountain Valley\n\nChamber Members - Save 20% on General Admission
X-ALT-DESC;FMTTYPE=text/html:<span style="font-size:18px\;"><strong>Taste of Fountain Valley</strong></span><br />\n<strong>Chamber Members - Save 20% on General Admission</strong>
LOCATION:Los Caballeros Sports Village 17272 Newhope Street Fountain Valley
UID:e.2030.4147
SEQUENCE:3
DTSTAMP:20260424T231002Z
URL:http://business.fvchamber.com/events/details/taste-of-fountain-valley-4147
END:VEVENT

END:VCALENDAR
