BEGIN:VCALENDAR
VERSION:2.0
PRODID:-//ChamberMaster//Event Calendar 2.0//EN
METHOD:PUBLISH
X-PUBLISHED-TTL:P3D
REFRESH-INTERVAL:P3D
CALSCALE:GREGORIAN
BEGIN:VEVENT
DTSTART;VALUE=DATE:20160423
DTEND;VALUE=DATE:20160424
TRANSP:TRANSPARENT
X-MICROSOFT-CDO-ALLDAYEVENT:TRUE
SUMMARY:Taste of Fountain Valley
DESCRIPTION:Taste of Fountain Valley\n\nBenefitting the Schools Foundation
X-ALT-DESC;FMTTYPE=text/html:<span style="font-size:16px\;"><strong>Taste of Fountain Valley<br />\n<em><span style="font-size:14px\;">Benefitting the Schools Foundation</span></em></strong></span>
LOCATION:The Center at Founder's Village
UID:e.2030.2320
SEQUENCE:3
DTSTAMP:20260425T160608Z
URL:http://business.fvchamber.com/events/details/taste-of-fountain-valley-04-23-2016-2320
END:VEVENT

END:VCALENDAR
