BEGIN:VCALENDAR
VERSION:2.0
PRODID:-//ChamberMaster//Event Calendar 2.0//EN
METHOD:PUBLISH
X-PUBLISHED-TTL:P3D
REFRESH-INTERVAL:P3D
CALSCALE:GREGORIAN
BEGIN:VEVENT
DTSTART:20160827T170000Z
DTEND:20160827T180000Z
X-MICROSOFT-CDO-ALLDAYEVENT:FALSE
SUMMARY:Tank House Moving Day Parade
DESCRIPTION:Fountain Valley Historical Society\n\nCourreges Tank House Moving Day Parade
X-ALT-DESC;FMTTYPE=text/html:<span style="font-size:14px\;"><strong>Fountain Valley Historical Society</strong></span><br />\n<span style="font-size:16px\;"><strong>Courreges Tank House Moving Day Parade</strong></span>
LOCATION:Parade passes: 10:00am at the Senior Center\, 17967 Bushard St.\, FV 10:20am at City Hall - 10200 Slater Ave.\, FV 10:30am - Tank House ceremony in front of the library
UID:e.2030.3831
SEQUENCE:3
DTSTAMP:20260425T111745Z
URL:http://business.fvchamber.com/events/details/tank-house-moving-day-parade-3831
END:VEVENT

END:VCALENDAR
