BEGIN:VCALENDAR
VERSION:2.0
PRODID:-//ChamberMaster//Event Calendar 2.0//EN
METHOD:PUBLISH
X-PUBLISHED-TTL:P3D
REFRESH-INTERVAL:P3D
CALSCALE:GREGORIAN
BEGIN:VEVENT
DTSTART:20210608T230000Z
DTEND:20210609T010000Z
X-MICROSOFT-CDO-ALLDAYEVENT:FALSE
SUMMARY:Taco Tuesday Networking Mixer At Carmel Village
DESCRIPTION:Join us for delicious tacos and an exclusive networking mixer with the Fountain Valley Chamber members and professionals from the "Senior Industry".
X-ALT-DESC;FMTTYPE=text/html:<span style="color:#0000CD\;"><strong><span style="font-size:24px\;"><span style="font-family:tahoma\;">Join us for delicious tacos and an exclusive networking mixer with the Fountain Valley Chamber members and professionals from the &quot\;Senior Industry&quot\;.&nbsp\;</span></span></strong></span>
LOCATION:17077 San Mateo\, Fountain Valley\, CA 92708
UID:e.2030.5356
SEQUENCE:3
DTSTAMP:20260421T141920Z
URL:http://business.fvchamber.com/events/details/taco-tuesday-networking-mixer-at-carmel-village-5356
END:VEVENT

END:VCALENDAR
