BEGIN:VCALENDAR
VERSION:2.0
PRODID:-//ChamberMaster//Event Calendar 2.0//EN
METHOD:PUBLISH
X-PUBLISHED-TTL:P3D
REFRESH-INTERVAL:P3D
CALSCALE:GREGORIAN
BEGIN:VEVENT
DTSTART:20170204T010000Z
DTEND:20170204T030000Z
X-MICROSOFT-CDO-ALLDAYEVENT:FALSE
SUMMARY:T Cup Coffee & Tea Grand Opening / Ribbon Cutting
DESCRIPTION:T Cup Coffee & Tea\n\nGrand Opening / Ribbon Cutting
X-ALT-DESC;FMTTYPE=text/html:<span style="font-size:16px\;"><strong>T Cup Coffee &amp\; Tea</strong></span><br />\n<span style="font-size:14px\;"><em><strong>Grand Opening / Ribbon Cutting</strong></em></span>
LOCATION:9110 Edinger Avenue (at Magnolia) Fountain Valley
UID:e.2030.3865
SEQUENCE:3
DTSTAMP:20260425T005355Z
URL:http://business.fvchamber.com/events/details/t-cup-coffee-tea-grand-opening-ribbon-cutting-3865
END:VEVENT

END:VCALENDAR
