BEGIN:VCALENDAR
VERSION:2.0
PRODID:-//ChamberMaster//Event Calendar 2.0//EN
METHOD:PUBLISH
X-PUBLISHED-TTL:P3D
REFRESH-INTERVAL:P3D
CALSCALE:GREGORIAN
BEGIN:VEVENT
DTSTART:20220803T190000Z
DTEND:20220803T200000Z
X-MICROSOFT-CDO-ALLDAYEVENT:FALSE
SUMMARY:Surcharge Your Marketing- How to Reach Local Customers with Nextdoor Paid Ads
DESCRIPTION:Learn how to utilize paid advertising on digital and social platforms such as Tik Tok\, Nextdoor\, Google\, Instagram\, and Yelp. Over a five-week period\, you will learn from digital marketing experts how to launch ads\, analyze and track analytics and adjust through lead generation statistics to maximize your marketing dollars. Sessions will be held 8/3\, 8/10\, 8/17. 8/ 24\, and 8/31.
X-ALT-DESC;FMTTYPE=text/html:<span style="color: rgb(27\, 27\, 27)\; font-family: &quot\;Source Sans Pro Web&quot\;\, &quot\;Helvetica Neue&quot\;\, Helvetica\, Roboto\, Arial\, sans-serif\; font-size: 18px\; background-color: rgb(255\, 255\, 255)\;">Learn how to utilize paid advertising on digital and social platforms such as Tik Tok\, Nextdoor\, Google\, Instagram\, and Yelp. Over a five-week period\, you will learn from digital marketing experts how to launch ads\, analyze and track analytics and adjust through lead generation statistics to maximize your marketing dollars. Sessions will be held 8/3\, 8/10\, 8/17. 8/ 24\, and 8/31.</span>
LOCATION:Zoom
UID:e.2030.5602
SEQUENCE:3
DTSTAMP:20260420T142009Z
URL:http://business.fvchamber.com/events/details/surcharge-your-marketing-how-to-reach-local-customers-with-nextdoor-paid-ads-5602
END:VEVENT

END:VCALENDAR
