BEGIN:VCALENDAR
VERSION:2.0
PRODID:-//ChamberMaster//Event Calendar 2.0//EN
METHOD:PUBLISH
X-PUBLISHED-TTL:P3D
REFRESH-INTERVAL:P3D
CALSCALE:GREGORIAN
BEGIN:VEVENT
DTSTART:20220810T000000Z
DTEND:20220810T030000Z
X-MICROSOFT-CDO-ALLDAYEVENT:FALSE
SUMMARY:Support Mimi's Jewelry Mixer
DESCRIPTION:It's time to support one of Fountain Valley's local businesses. Mimi's Jewelry and the Truong Family have given so much to our community\, and now it's our turn to help support them through this rough time. Come stop by on Tuesday\, August 9th\, from 5-8 pm for a great mixer.\n\nIf you have any old\, broken\, and unwanted Gold & Silver bring them by.
X-ALT-DESC;FMTTYPE=text/html:<span style="color:#0000CD\;"><span style="font-size:18px\;"><span style="font-family:tahoma\;"><strong>It&#39\;s time to support one of Fountain Valley&#39\;s local businesses. Mimi&#39\;s Jewelry and the Truong Family have given so much to our community\, and now it&#39\;s our turn to help support them through this rough time. Come stop by on Tuesday\, August 9th\, from 5-8 pm for a great mixer.<br />\nIf you have any old\, broken\, and unwanted Gold &amp\; Silver bring them by.</strong></span></span></span>&nbsp\;
LOCATION:Mimi's Jewelry 18591 Brookhurst Fountain Valley\, CA 92708
UID:e.2030.5857
SEQUENCE:3
DTSTAMP:20260420T154157Z
URL:http://business.fvchamber.com/events/details/support-mimi-s-jewelry-mixer-5857
END:VEVENT

END:VCALENDAR
