BEGIN:VCALENDAR
VERSION:2.0
PRODID:-//ChamberMaster//Event Calendar 2.0//EN
METHOD:PUBLISH
X-PUBLISHED-TTL:P3D
REFRESH-INTERVAL:P3D
CALSCALE:GREGORIAN
BEGIN:VEVENT
DTSTART:20190116T163000Z
DTEND:20190116T220000Z
X-MICROSOFT-CDO-ALLDAYEVENT:FALSE
SUMMARY:Supply Chain Management Resource Fair
DESCRIPTION:Discover procurement opportunities to diversify your business\, tap into resources to help make your business more competitive\, and become more resilient in the area of cybersecurity.\n\n	Learn about New Contracting Opportunities and Free Resources\n	Attend Valuable Workshops\n	Meet the Buyers\n	Network with Primes\, Agencies\, and Teaming Partners\n\nRegister online at: http://www.cvent.com/d/rbqfm8\n\nLunch & light breakfast will be served.  Cost: FREE!!
X-ALT-DESC;FMTTYPE=text/html:Discover procurement opportunities to diversify your business\, tap into resources to help make your business more competitive\, and become more resilient in the area of cybersecurity.\n<ul>\n	<li>Learn about New Contracting Opportunities and Free Resources</li>\n	<li>Attend Valuable Workshops</li>\n	<li>Meet the Buyers</li>\n	<li>Network with Primes\, Agencies\, and Teaming Partners</li>\n</ul>\nRegister online at: http://www.cvent.com/d/rbqfm8<br />\nLunch &amp\; light breakfast will be served.&nbsp\; Cost: FREE!!
LOCATION:Coastline College Garden Grove Campus\, Room 122 12901 Euclid Street Garden Grove\, CA 92840
UID:e.2030.5093
SEQUENCE:3
DTSTAMP:20260423T131926Z
URL:http://business.fvchamber.com/events/details/supply-chain-management-resource-fair-5093
END:VEVENT

END:VCALENDAR
