BEGIN:VCALENDAR
VERSION:2.0
PRODID:-//ChamberMaster//Event Calendar 2.0//EN
METHOD:PUBLISH
X-PUBLISHED-TTL:P3D
REFRESH-INTERVAL:P3D
CALSCALE:GREGORIAN
BEGIN:VEVENT
DTSTART:20160415T000000Z
DTEND:20160415T020000Z
X-MICROSOFT-CDO-ALLDAYEVENT:FALSE
SUMMARY:SuperStarz After Hours
DESCRIPTION:SuperStarz After Hours\n\nBusiness Mixer
X-ALT-DESC;FMTTYPE=text/html:<span style="font-size:16px\;"><strong>SuperStarz After Hours<br />\nBusiness Mixer</strong></span>
LOCATION:Fuzion 7227 Edinger Ave. Huntington Beach
UID:e.2030.2803
SEQUENCE:3
DTSTAMP:20260425T154706Z
URL:http://business.fvchamber.com/events/details/superstarz-after-hours-04-14-2016-2803
END:VEVENT

END:VCALENDAR
