BEGIN:VCALENDAR
VERSION:2.0
PRODID:-//ChamberMaster//Event Calendar 2.0//EN
METHOD:PUBLISH
X-PUBLISHED-TTL:P3D
REFRESH-INTERVAL:P3D
CALSCALE:GREGORIAN
BEGIN:VEVENT
DTSTART:20190806T190000Z
DTEND:20190806T200000Z
X-MICROSOFT-CDO-ALLDAYEVENT:FALSE
SUMMARY:Supercharge Your Marketing: Is your PR Dead or Alive?
DESCRIPTION:Is your PR Dead or Alive? PR isn't just for large businesses. Join in this webinar to learn how to leverage low hanging fruit to increase your awareness and media efforts.\n\n\n\nClick the link below to register to the webinar:\n\nsupermktg.eventbrite.com
X-ALT-DESC;FMTTYPE=text/html:<span style="font-size:16px\;"><span style="font-family:verdana\;"><span style="color:#800000\;"><strong>Is your PR Dead or Alive? PR isn&#39\;t just for large businesses. Join in this webinar to learn how to leverage low hanging fruit to increase your awareness and media efforts.<br />\n<br />\nClick the link below to register to the webinar:<br />\n<a href="https://www.eventbrite.com/e/supercharge-your-marketing-virtual-mini-series-tickets-63901664599">supermktg.eventbrite.com</a></strong></span></span></span>
LOCATION:Online\, after your register\, the link will be sent to access the webinar.
UID:e.2030.5130
SEQUENCE:3
DTSTAMP:20260423T024231Z
URL:http://business.fvchamber.com/events/details/supercharge-your-marketing-is-your-pr-dead-or-alive-5130
END:VEVENT

END:VCALENDAR
