BEGIN:VCALENDAR
VERSION:2.0
PRODID:-//ChamberMaster//Event Calendar 2.0//EN
METHOD:PUBLISH
X-PUBLISHED-TTL:P3D
REFRESH-INTERVAL:P3D
CALSCALE:GREGORIAN
BEGIN:VEVENT
DTSTART:20190820T190000Z
DTEND:20190820T200000Z
X-MICROSOFT-CDO-ALLDAYEVENT:FALSE
SUMMARY:Supercharge Your Marketing: Engaging Your Customers Online: Content Marketing
DESCRIPTION:Figure out how to engage and provide your customers with valuable information. In this webinar\, Hubspot will go over the 4 main points of Content Marketing: awareness\, research\, consideration\, and buying.\n\n\n\nClick the link below to register to the webinar:\n\nsupermktg.eventbrite.com
X-ALT-DESC;FMTTYPE=text/html:<span style="color:#B22222\;"><span style="font-size:16px\;"><span style="font-family:verdana\;"><strong>Figure out how to engage and provide your customers with valuable information. In this webinar\, Hubspot will go over the 4 main points of Content Marketing: awareness\, research\, consideration\, and buying.<br />\n<br />\nClick the link below to register to the webinar:<br />\n<a href="https://www.eventbrite.com/e/supercharge-your-marketing-virtual-mini-series-tickets-63901664599">supermktg.eventbrite.com</a></strong></span></span></span>
LOCATION:Online\, after your register\, the link will be sent to access the webinar.
UID:e.2030.5132
SEQUENCE:3
DTSTAMP:20260423T024151Z
URL:http://business.fvchamber.com/events/details/supercharge-your-marketing-engaging-your-customers-online-content-marketing-5132
END:VEVENT

END:VCALENDAR
