BEGIN:VCALENDAR
VERSION:2.0
PRODID:-//ChamberMaster//Event Calendar 2.0//EN
METHOD:PUBLISH
X-PUBLISHED-TTL:P3D
REFRESH-INTERVAL:P3D
CALSCALE:GREGORIAN
BEGIN:VEVENT
DTSTART:20190813T190000Z
DTEND:20190813T200000Z
X-MICROSOFT-CDO-ALLDAYEVENT:FALSE
SUMMARY:Supercharge Your Marketing: Advertising Online
DESCRIPTION:You need to be deliberate in your online advertising. In this webinar\, you will figure out where are your specific customers online\, how to get found creating Google and Facebook ads as well as when Groupon.\n\n\n\nClick the link below to register to the webinar:\n\nSupermktg.eventbrite.com
X-ALT-DESC;FMTTYPE=text/html:<font color="#800000" face="verdana"><span style="font-size: 16px\;"><b>You need to be deliberate in your online advertising. In this webinar\, you will figure out where are your specific customers online\, how to get found creating Google and Facebook ads as well as when Groupon.<br />\n<br />\nClick the link below to register to the webinar:<br />\n<a href="https://www.eventbrite.com/e/supercharge-your-marketing-virtual-mini-series-tickets-63901664599">Supermktg.eventbrite.com</a></b></span></font>
LOCATION:Online\, after your register\, the link will be sent to access the webinar.
UID:e.2030.5131
SEQUENCE:3
DTSTAMP:20260423T024120Z
URL:http://business.fvchamber.com/events/details/supercharge-your-marketing-advertising-online-5131
END:VEVENT

END:VCALENDAR
