BEGIN:VCALENDAR
VERSION:2.0
PRODID:-//ChamberMaster//Event Calendar 2.0//EN
METHOD:PUBLISH
X-PUBLISHED-TTL:P3D
REFRESH-INTERVAL:P3D
CALSCALE:GREGORIAN
BEGIN:VEVENT
DTSTART:20171007T180000Z
DTEND:20171007T210000Z
X-MICROSOFT-CDO-ALLDAYEVENT:FALSE
SUMMARY:Super Rosy Animal Taco Saturday
DESCRIPTION:A super Rosy Animal Taco Saturday    \n\n\n\nBooth Space: $50 (will be donated to bringing literacy to our community)
X-ALT-DESC;FMTTYPE=text/html:<span style="font-family:calibri\,sans-serif\;"><span style="font-size:11.0pt\;"><span style="font-size:18px\;"><strong>A super Rosy Animal Taco Saturday</strong></span> </span></span><span style="font-family:segoe ui emoji\,sans-serif\;"><span style="font-size:11.0pt\;">&#128540\;&#129304\;&#127995\;<br />\n<br />\n<strong>Booth Space: $50</strong> (will be donated to bringing literacy to our community)</span></span>
LOCATION:Rosy Dental 16575 Brookhurst St.\, #A Fountain Valley\, CA 92708
UID:e.2030.4221
SEQUENCE:3
DTSTAMP:20260424T125607Z
URL:http://business.fvchamber.com/events/details/super-rosy-animal-taco-saturday-4221
END:VEVENT

END:VCALENDAR
