BEGIN:VCALENDAR
VERSION:2.0
PRODID:-//ChamberMaster//Event Calendar 2.0//EN
METHOD:PUBLISH
X-PUBLISHED-TTL:P3D
REFRESH-INTERVAL:P3D
CALSCALE:GREGORIAN
BEGIN:VEVENT
DTSTART:20171001T140000Z
DTEND:20171001T180000Z
X-MICROSOFT-CDO-ALLDAYEVENT:FALSE
SUMMARY:Super Heroes For Hope
DESCRIPTION:Super Heroes Run For Hope\n\n5K / 10K Family Fun Run\n\nIn support of pediatric cancer\, Hyundai Hope On Wheels hosts an annual Run For Hope
X-ALT-DESC;FMTTYPE=text/html:<span style="font-size:18px\;"><strong>Super Heroes Run For Hope<br />\n<span style="font-size:16px\;">5K / 10K Family Fun Run</span></strong></span><br />\n<span style="font-size:14px\;"><em>In support of pediatric cancer\, Hyundai Hope On Wheels hosts an annual Run For Hope</em></span>
LOCATION:Fountain Valley Sports Park 16400 Brookhurst Street Fountain Valley
UID:e.2030.4215
SEQUENCE:3
DTSTAMP:20260424T125240Z
URL:http://business.fvchamber.com/events/details/super-heroes-for-hope-4215
END:VEVENT

END:VCALENDAR
