BEGIN:VCALENDAR
VERSION:2.0
PRODID:-//ChamberMaster//Event Calendar 2.0//EN
METHOD:PUBLISH
X-PUBLISHED-TTL:P3D
REFRESH-INTERVAL:P3D
CALSCALE:GREGORIAN
BEGIN:VEVENT
DTSTART;VALUE=DATE:20160623
DTEND;VALUE=DATE:20160627
TRANSP:TRANSPARENT
X-MICROSOFT-CDO-ALLDAYEVENT:TRUE
SUMMARY:Summerfest through June 26
DESCRIPTION:Summerfest by the City of Fountain Valley
X-ALT-DESC;FMTTYPE=text/html:Summerfest by the City of Fountain Valley
LOCATION:Fountain Valley Recreation Center & Sports Park
UID:e.2030.2358
SEQUENCE:3
DTSTAMP:20260425T130822Z
URL:http://business.fvchamber.com/events/details/summerfest-through-june-26-06-23-2016-2358
END:VEVENT

END:VCALENDAR
