BEGIN:VCALENDAR
VERSION:2.0
PRODID:-//ChamberMaster//Event Calendar 2.0//EN
METHOD:PUBLISH
X-PUBLISHED-TTL:P3D
REFRESH-INTERVAL:P3D
CALSCALE:GREGORIAN
BEGIN:VEVENT
DTSTART:20160524T183000Z
DTEND:20160524T200000Z
X-MICROSOFT-CDO-ALLDAYEVENT:FALSE
SUMMARY:Summer Luncheon Series
DESCRIPTION:Cyber Security\n\nPresented by Fountain Valley Police Detective Henry Hsu\n\nSponsored by Diane Higashioka\, DGH Background Services
X-ALT-DESC;FMTTYPE=text/html:<div>Cyber Security<br />\nPresented by Fountain Valley Police Detective Henry Hsu</div>\n\n<div>Sponsored by Diane Higashioka\, DGH Background Services</div>\n
LOCATION:Fountain Valley Recreation & Sports Park 16400 Brookhurst Street Fountain Valley
UID:e.2030.2324
SEQUENCE:3
DTSTAMP:20260425T141657Z
URL:http://business.fvchamber.com/events/details/summer-luncheon-series-05-24-2016-2324
END:VEVENT

END:VCALENDAR
