BEGIN:VCALENDAR
VERSION:2.0
PRODID:-//ChamberMaster//Event Calendar 2.0//EN
METHOD:PUBLISH
X-PUBLISHED-TTL:P3D
REFRESH-INTERVAL:P3D
CALSCALE:GREGORIAN
BEGIN:VEVENT
DTSTART:20160825T230000Z
DTEND:20160826T020000Z
X-MICROSOFT-CDO-ALLDAYEVENT:FALSE
SUMMARY:Summer Fun at Mile Square Plaza Mixer
DESCRIPTION:Summer Fun at Mile Square Plaza Mixer.\n\n\n\nThank you everyone for coming out and having a blast with us. We would like to announce the winners of the raffle tickets. \n\n\n\nThe 3 Winners are:\n\n374873: reBelle-Haircut + Conditioning Treatment  ($90 value)\n\n374881: Orange Coast Eye Center ($30 Gift Certificate)\n\n374918: doTERRA sample kit and Healing Horizons Massage & Spa ($50 value)\n\n                                \n\nPlease contact the Chamber office to claim your prize. \n\n(714) 962-3822 | info@fvchamber.com
X-ALT-DESC;FMTTYPE=text/html:<span style="font-size:16px\;"><strong>Summer Fun at Mile Square Plaza Mixer.<br />\n<br />\nThank you everyone for coming out and having a blast with us. We would like to announce the winners of the raffle tickets.&nbsp\;</strong></span><br />\n<br />\n<span style="font-size:26px\;"><span style="color:#FF0000\;">The 3 Winners are:</span><br />\n<span style="font-size:22px\;"><span style="color:#006400\;"><span style="font-size:18px\;">374873:</span>&nbsp\;</span></span></span><span style="font-size:26px\;"><span style="font-size:24px\;"><span style="color:#DAA520\;"><span style="font-size:18px\;"><span style="font-size:16px\;">reBelle-Haircut&nbsp\;+&nbsp\;Conditioning Treatment&nbsp\;&nbsp\;($90 value)</span></span></span></span></span><br />\n<span style="color:#006400\;"><span style="font-size:24px\;"><span style="font-size:18px\;">374881:</span>&nbsp\;</span></span><span style="font-size:24px\;"><span style="color:#DAA520\;"><span style="font-size:18px\;"><span style="font-size:16px\;">Orange Coast Eye Center ($30 Gift Certificate)</span></span></span></span><br />\n<span style="color:#006400\;"><span style="font-size:24px\;"><span style="font-size:18px\;">374918:</span>&nbsp\;</span></span><span style="font-size:16px\;"><span style="color:#DAA520\;">doTERRA&nbsp\;sample kit and Healing Horizons Massage &amp\; Spa&nbsp\;($50 value)</span></span><br />\n&nbsp\;&nbsp\;&nbsp\;&nbsp\;&nbsp\;&nbsp\;&nbsp\;&nbsp\;&nbsp\;&nbsp\;&nbsp\;&nbsp\;&nbsp\;&nbsp\;&nbsp\;&nbsp\;&nbsp\;&nbsp\;&nbsp\;&nbsp\;&nbsp\;&nbsp\;&nbsp\;&nbsp\;&nbsp\;&nbsp\;&nbsp\;&nbsp\;&nbsp\;&nbsp\;&nbsp\;&nbsp\;<br />\n<strong>Please contact the Chamber office to claim your prize.&nbsp\;<br />\n(714) 962-3822 | info@fvchamber.com</strong><br />\n&nbsp\;
LOCATION:Mile Square Plaza Brookhurst & Heil
UID:e.2030.2821
SEQUENCE:3
DTSTAMP:20260425T111951Z
URL:http://business.fvchamber.com/events/details/summer-fun-at-mile-square-plaza-mixer-08-25-2016-2821
END:VEVENT

END:VCALENDAR
