BEGIN:VCALENDAR
VERSION:2.0
PRODID:-//ChamberMaster//Event Calendar 2.0//EN
METHOD:PUBLISH
X-PUBLISHED-TTL:P3D
REFRESH-INTERVAL:P3D
CALSCALE:GREGORIAN
BEGIN:VEVENT
DTSTART;VALUE=DATE:20170811
DTEND;VALUE=DATE:20170814
TRANSP:TRANSPARENT
X-MICROSOFT-CDO-ALLDAYEVENT:TRUE
SUMMARY:Summer Freedom Festival
DESCRIPTION:Summer Freedom Festival
X-ALT-DESC;FMTTYPE=text/html:<span style="font-size:16px\;"><strong>Summer&nbsp\;Freedom Festival</strong></span>
LOCATION:Mile Square Park Fountain Valley
UID:e.2030.4211
SEQUENCE:3
DTSTAMP:20260424T155710Z
URL:http://business.fvchamber.com/events/details/summer-freedom-festival-4211
END:VEVENT

END:VCALENDAR
