BEGIN:VCALENDAR
VERSION:2.0
PRODID:-//ChamberMaster//Event Calendar 2.0//EN
METHOD:PUBLISH
X-PUBLISHED-TTL:P3D
REFRESH-INTERVAL:P3D
CALSCALE:GREGORIAN
BEGIN:VEVENT
DTSTART:20191012T000000Z
DTEND:20191012T020000Z
X-MICROSOFT-CDO-ALLDAYEVENT:FALSE
SUMMARY:Strikes For Scholars (Presented by: Coastline College)
DESCRIPTION:Silent Auction * Opportunity Drawings * Prizes \n\n\n\nProceeds benefit the Coastline Promise\n\nPrice includes 2 Games (Shoe & Ball Rental)\, Pizza & Soda\n\nSponsorship & V.I.P. Opportunities are available with added benefits. Discounts available for students
X-ALT-DESC;FMTTYPE=text/html:<strong><span style="color:#000000\;"><span style="font-family:verdana\;"><span style="font-size:14px\;">Silent Auction * Opportunity Drawings * Prizes&nbsp\;<br />\n<br />\nProceeds benefit the Coastline Promise<br />\nPrice includes 2 Games (Shoe &amp\; Ball Rental)\, Pizza &amp\; Soda<br />\nSponsorship &amp\; V.I.P. Opportunities are available with added benefits. Discounts available for students</span></span></span></strong>
LOCATION:Fountain Bowl 17110 Brookhurst St. Fountain Valley\, CA 92708
UID:e.2030.5145
SEQUENCE:3
DTSTAMP:20260423T013151Z
URL:http://business.fvchamber.com/events/details/strikes-for-scholars-presented-by-coastline-college-5145
END:VEVENT

END:VCALENDAR
