BEGIN:VCALENDAR
VERSION:2.0
PRODID:-//ChamberMaster//Event Calendar 2.0//EN
METHOD:PUBLISH
X-PUBLISHED-TTL:P3D
REFRESH-INTERVAL:P3D
CALSCALE:GREGORIAN
BEGIN:VEVENT
DTSTART:20171004T160000Z
DTEND:20171004T170000Z
X-MICROSOFT-CDO-ALLDAYEVENT:FALSE
SUMMARY:Strategic Marketing Council
DESCRIPTION:Strategic Marketing Council Meeting\n\nHelps to position the Fountain Valley Chamber as a leading business organization in the region through creative\, strategic solutions focused on member awareness and engagement.\n\nMeets 1st Wednesday of every month from 9:00am to 10:30am
X-ALT-DESC;FMTTYPE=text/html:<span style="font-size:16px\;"><strong>Strategic Marketing Council Meeting</strong></span><br />\n<em>Helps to position the Fountain Valley Chamber as a leading business organization in the region through creative\, strategic solutions focused on member awareness and engagement.<br />\nMeets 1st Wednesday of every month from 9:00am to 10:30am</em>
LOCATION:Fountain Valley Chamber of Commerce 10055 Slater Ave.\, Ste. 250 Fountain Valley
UID:e.2030.458
SEQUENCE:3
DTSTAMP:20260424T125414Z
URL:http://business.fvchamber.com/events/details/strategic-marketing-council-458
END:VEVENT

END:VCALENDAR
