BEGIN:VCALENDAR
VERSION:2.0
PRODID:-//ChamberMaster//Event Calendar 2.0//EN
METHOD:PUBLISH
X-PUBLISHED-TTL:P3D
REFRESH-INTERVAL:P3D
CALSCALE:GREGORIAN
BEGIN:VEVENT
DTSTART:20171206T200000Z
DTEND:20171206T210000Z
X-MICROSOFT-CDO-ALLDAYEVENT:FALSE
SUMMARY:Strategic Marketing Council
DESCRIPTION:Strategic Marketing Council Meeting
X-ALT-DESC;FMTTYPE=text/html:<span style="font-size:14px\;"><strong>Strategic Marketing Council Meeting</strong></span>
LOCATION:Lamppost Pizza 10130 Warner Ave. Fountain Valley
UID:e.2030.460
SEQUENCE:3
DTSTAMP:20260424T111423Z
URL:http://business.fvchamber.com/events/details/strategic-marketing-council-12-06-2017-460
END:VEVENT

END:VCALENDAR
