BEGIN:VCALENDAR
VERSION:2.0
PRODID:-//ChamberMaster//Event Calendar 2.0//EN
METHOD:PUBLISH
X-PUBLISHED-TTL:P3D
REFRESH-INTERVAL:P3D
CALSCALE:GREGORIAN
BEGIN:VEVENT
DTSTART:20171101T070000Z
DTEND:20171101T203000Z
X-MICROSOFT-CDO-ALLDAYEVENT:FALSE
SUMMARY:Strategic Marketing Council
DESCRIPTION:Strategic Marketing Council\n\nHelps to position the Fountain Valley Chamber as a leading business organization in the region through creative\, strategic solutions focused on member awareness and engagement.\n\nMeets 1st Wednesday of every month
X-ALT-DESC;FMTTYPE=text/html:Strategic Marketing Council<br />\n<em>Helps to position the Fountain Valley Chamber as a leading business organization in the region through creative\, strategic solutions focused on member awareness and engagement.<br />\nMeets 1st Wednesday of every month&nbsp\;</em>
LOCATION:Lamppost Pizza 10130 Warner Ave. Fountain Valley
UID:e.2030.459
SEQUENCE:3
DTSTAMP:20260424T111315Z
URL:http://business.fvchamber.com/events/details/strategic-marketing-council-11-01-2017-459
END:VEVENT

END:VCALENDAR
